Workbook

Sheet operator_volume
A1: energy | B1: Energy source | C1: present | D1: Hazards resulting from the energy | E1: risk value | J1: Protective measures (existing / required) | K1: risk value | P1: =RISK_SCORE!A3 -> value "S" | Q1: =RISK_SCORE!B3 -> Estimated consequences | R1: =RISK_SCORE!C3 -> Human losses
P2: =RISK_SCORE!A4 -> 100 | Q2: =RISK_SCORE!B4 -> Major catastrophe | R2: =RISK_SCORE!C4 -> Many fatalities
E3: S | F3: E | G3: P | H3: R | K3: S | L3: E | M3: P | N3: R | P3: =RISK_SCORE!A5 -> 50 | Q3: =RISK_SCORE!B5 -> Catastrophe | R3: =RISK_SCORE!C5 -> Several fatalities
A4: potential | B4: person at height | C4: =TRUE() -> TRUE | H4: =E4*F4*G4 -> 0 | I4: =IF(H4>70,"!!!"," ") | N4: =K4*L4*M4 -> 0 | P4: =RISK_SCORE!A6 -> 15 | Q4: =RISK_SCORE!B6 -> Very serious | R4: =RISK_SCORE!C6 -> One fatality | V4: =TRUE() -> TRUE
B5: object at height | C5: =TRUE() -> TRUE | H5: =E5*F5*G5 -> 0 | I5: =IF(H5>70,"!!!"," ") | N5: =K5*L5*M5 -> 0 | P5: =RISK_SCORE!A7 -> 7 | Q5: =RISK_SCORE!B7 -> Serious | R5: =RISK_SCORE!C7 -> Severe injury | V5: =FALSE() -> FALSE
B6: collapsing structure | C6: =TRUE() -> TRUE | H6: =E6*F6*G6 -> 0 | I6: =IF(H6>70,"!!!"," ") | N6: =K6*L6*M6 -> 0 | P6: =RISK_SCORE!A8 -> 3 | Q6: =RISK_SCORE!B8 -> Medium | R6: =RISK_SCORE!C8 -> Absence from work
B7: carrying and lifting | C7: =TRUE() -> TRUE | H7: =E7*F7*G7 -> 0 | I7: =IF(H7>70,"!!!"," ") | N7: =K7*L7*M7 -> 0 | P7: =RISK_SCORE!A9 -> 1 | Q7: =RISK_SCORE!B9 -> Minor | R7: =RISK_SCORE!C9 -> First aid
B8: tensioned spring | C8: =TRUE() -> TRUE | H8: =E8*F8*G8 -> 0 | I8: =IF(H8>70,"!!!"," ") | N8: =K8*L8*M8 -> 0 | P8: =RISK_SCORE!A11 -> value "E" | Q8: =RISK_SCORE!B11 -> Exposure description
B9: stressed material | C9: =TRUE() -> TRUE | H9: =E9*F9*G9 -> 0 | I9: =IF(H9>70,"!!!"," ") | N9: =K9*L9*M9 -> 0 | P9: =RISK_SCORE!A12 -> 10 | Q9: =RISK_SCORE!B12 -> Continuous | S9: Operator of the workstation
B10: pressurised gas or steam lines | C10: =TRUE() -> TRUE | H10: =E10*F10*G10 -> 0 | I10: =IF(H10>70,"!!!"," ") | N10: =K10*L10*M10 -> 0 | P10: =RISK_SCORE!A13 -> 6 | Q10: =RISK_SCORE!B13 -> Frequent (daily) | S10: Other workers near the workstation
B11: vacuum | C11: =TRUE() -> TRUE | H11: =E11*F11*G11 -> 0 | I11: =IF(H11>70,"!!!"," ") | N11: =K11*L11*M11 -> 0 | P11: =RISK_SCORE!A14 -> 3 | Q11: =RISK_SCORE!B14 -> Occasional (once a week) | S11: Service staff
A12: kinetic | B12: machine elements moving on linear guides | C12: =TRUE() -> TRUE | H12: =E12*F12*G12 -> 0 | I12: =IF(H12>70,"!!!"," ") | N12: =K12*L12*M12 -> 0 | P12: =RISK_SCORE!A15 -> 2 | Q12: =RISK_SCORE!B15 -> Unusual (once a month) | S12: Service staff
B13: moving arms of robots and manipulators | C13: =TRUE() -> TRUE | H13: =E13*F13*G13 -> 0 | I13: =IF(H13>70,"!!!"," ") | N13: =K13*L13*M13 -> 0 | P13: =RISK_SCORE!A16 -> 1 | Q13: =RISK_SCORE!B16 -> Rare (a few times a year) | S13: Service staff
B14: flying chips or fragments of workpieces | C14: =TRUE() -> TRUE | H14: =E14*F14*G14 -> 0 | I14: =IF(H14>70,"!!!"," ") | N14: =K14*L14*M14 -> 0 | P14: =RISK_SCORE!A17 -> 0.5 | Q14: =RISK_SCORE!B17 -> Very rare (once a year) | S14: Service staff
B15: moving conveyors | C15: =TRUE() -> TRUE | H15: =E15*F15*G15 -> 0 | I15: =IF(H15>70,"!!!"," ") | N15: =K15*L15*M15 -> 0 | P15: =RISK_SCORE!A19 -> value "P" | Q15: =RISK_SCORE!B19 -> Probability description
B16: moving floor vehicles (AGVs) | C16: =TRUE() -> TRUE | H16: =E16*F16*G16 -> 0 | I16: =IF(H16>70,"!!!"," ") | N16: =K16*L16*M16 -> 0 | P16: =RISK_SCORE!A20 -> 10 | Q16: =RISK_SCORE!B20 -> Very likely
B17: liquids or gases ejected under pressure | C17: =TRUE() -> TRUE | H17: =E17*F17*G17 -> 0 | I17: =IF(H17>70,"!!!"," ") | N17: =K17*L17*M17 -> 0 | P17: =RISK_SCORE!A21 -> 6 | Q17: =RISK_SCORE!B21 -> Quite possible
B18: transported materials | C18: =TRUE() -> TRUE | H18: =E18*F18*G18 -> 0 | I18: =IF(H18>70,"!!!"," ") | N18: =K18*L18*M18 -> 0 | P18: =RISK_SCORE!A22 -> 3 | Q18: =RISK_SCORE!B22 -> Unlikely
B19: rotating machine parts | C19: =TRUE() -> TRUE | H19: =E19*F19*G19 -> 0 | I19: =IF(H19>70,"!!!"," ") | N19: =K19*L19*M19 -> 0 | P19: =RISK_SCORE!A23 -> 1 | Q19: =RISK_SCORE!B23 -> Only occasionally
B20: moving drive belts | C20: =TRUE() -> TRUE | H20: =E20*F20*G20 -> 0 | I20: =IF(H20>70,"!!!"," ") | N20: =K20*L20*M20 -> 0 | P20: =RISK_SCORE!A24 -> 0.5 | Q20: =RISK_SCORE!B24 -> Conceivable
B21: rotating shafts, ball screws | C21: =TRUE() -> TRUE | H21: =E21*F21*G21 -> 0 | I21: =IF(H21>70,"!!!"," ") | N21: =K21*L21*M21 -> 0 | P21: =RISK_SCORE!A25 -> 0.2 | Q21: =RISK_SCORE!B25 -> Practically possible
A22: electrical | B22: supply voltage | C22: =TRUE() -> TRUE | H22: =E22*F22*G22 -> 0 | I22: =IF(H22>70,"!!!"," ") | N22: =K22*L22*M22 -> 0 | P22: =RISK_SCORE!A26 -> 0.1 | Q22: =RISK_SCORE!B26 -> Theoretically possible
B23: capacitor voltage | C23: =TRUE() -> TRUE | H23: =E23*F23*G23 -> 0 | I23: =IF(H23>70,"!!!"," ") | N23: =K23*L23*M23 -> 0 | P23: Value "R" | Q23: Risk category | R23: Action required
B24: battery voltage | C24: =TRUE() -> TRUE | H24: =E24*F24*G24 -> 0 | I24: =IF(H24>70,"!!!"," ") | N24: =K24*L24*M24 -> 0 | P24: R ≤ 20 | Q24: Acceptable | R24: Monitoring advised
B25: current (inductive storage or heating) | C25: =TRUE() -> TRUE | H25: =E25*F25*G25 -> 0 | I25: =IF(H25>70,"!!!"," ") | N25: =K25*L25*M25 -> 0 | P25: 20 < R ≤ 70 | Q25: Low | R25: Control needed
B26: magnetic field energy | C26: =TRUE() -> TRUE | H26: =E26*F26*G26 -> 0 | I26: =IF(H26>70,"!!!"," ") | N26: =K26*L26*M26 -> 0 | P26: 70 < R ≤ 200 | Q26: Significant | R26: Improvement needed
A27: heat – cold | B27: hot or cold object | C27: =TRUE() -> TRUE | H27: =E27*F27*G27 -> 0 | I27: =IF(H27>70,"!!!"," ") | N27: =K27*L27*M27 -> 0 | P27: 200 < R ≤ 400 | Q27: High | R27: Immediate improvement needed
B28: heat-emitting sources | C28: =TRUE() -> TRUE | H28: =E28*F28*G28 -> 0 | I28: =IF(H28>70,"!!!"," ") | N28: =K28*L28*M28 -> 0 | P28: R > 400 | Q28: Very high | R28: Stop work
B29: liquid or molten substance | C29: =TRUE() -> TRUE | H29: =E29*F29*G29 -> 0 | I29: =IF(H29>70,"!!!"," ") | N29: =K29*L29*M29 -> 0
B30: internal energy released by chemical reaction | C30: =TRUE() -> TRUE | H30: =E30*F30*G30 -> 0 | I30: =IF(H30>70,"!!!"," ") | N30: =K30*L30*M30 -> 0
A31: chemical | B31: explosives, chemical reactions | C31: =TRUE() -> TRUE | H31: =E31*F31*G31 -> 0 | I31: =IF(H31>70,"!!!"," ") | N31: =K31*L31*M31 -> 0
B32: toxic substances | C32: =TRUE() -> TRUE | H32: =E32*F32*G32 -> 0 | I32: =IF(H32>70,"!!!"," ") | N32: =K32*L32*M32 -> 0
B33: corrosive substances | C33: =TRUE() -> TRUE | H33: =E33*F33*G33 -> 0 | I33: =IF(H33>70,"!!!"," ") | N33: =K33*L33*M33 -> 0
B34: asphyxiating substances | C34: =TRUE() -> TRUE | H34: =E34*F34*G34 -> 0 | I34: =IF(H34>70,"!!!"," ") | N34: =K34*L34*M34 -> 0
A35: radiation | B35: acoustic (noise) | C35: =TRUE() -> TRUE | H35: =E35*F35*G35 -> 0 | I35: =IF(H35>70,"!!!"," ") | N35: =K35*L35*M35 -> 0
B36: electromagnetic | C36: =TRUE() -> TRUE | H36: =E36*F36*G36 -> 0 | I36: =IF(H36>70,"!!!"," ") | N36: =K36*L36*M36 -> 0
B37: infrasound and ultrasound | C37: =TRUE() -> TRUE | H37: =E37*F37*G37 -> 0 | I37: =IF(H37>70,"!!!"," ") | N37: =K37*L37*M37 -> 0
B38: ionising | C38: =TRUE() -> TRUE | H38: =E38*F38*G38 -> 0 | I38: =IF(H38>70,"!!!"," ") | N38: =K38*L38*M38 -> 0

Sheet external_volume
A1: energy | B1: Energy source | C1: present | D1: Hazards resulting from the energy | E1: risk value | J1: Protective measures (existing / required) | K1: risk value | P1: =RISK_SCORE!A3 -> value "S" | Q1: =RISK_SCORE!B3 -> Estimated consequences | R1: =RISK_SCORE!C3 -> Human losses
P2: =RISK_SCORE!A4 -> 100 | Q2: =RISK_SCORE!B4 -> Major catastrophe | R2: =RISK_SCORE!C4 -> Many fatalities
E3: S | F3: E | G3: P | H3: R | K3: S | L3: E | M3: P | N3: R | P3: =RISK_SCORE!A5 -> 50 | Q3: =RISK_SCORE!B5 -> Catastrophe | R3: =RISK_SCORE!C5 -> Several fatalities
A4: potential | B4: person at height | C4: =TRUE() -> TRUE | H4: =E4*F4*G4 -> 0 | I4: =IF(H4>70,"!!!"," ") | N4: =K4*L4*M4 -> 0 | P4: =RISK_SCORE!A6 -> 15 | Q4: =RISK_SCORE!B6 -> Very serious | R4: =RISK_SCORE!C6 -> One fatality | V4: =TRUE() -> TRUE
B5: object at height | C5: =TRUE() -> TRUE | H5: =E5*F5*G5 -> 0 | I5: =IF(H5>70,"!!!"," ") | N5: =K5*L5*M5 -> 0 | P5: =RISK_SCORE!A7 -> 7 | Q5: =RISK_SCORE!B7 -> Serious | R5: =RISK_SCORE!C7 -> Severe injury | V5: =FALSE() -> FALSE
B6: collapsing structure | C6: =TRUE() -> TRUE | H6: =E6*F6*G6 -> 0 | I6: =IF(H6>70,"!!!"," ") | N6: =K6*L6*M6 -> 0 | P6: =RISK_SCORE!A8 -> 3 | Q6: =RISK_SCORE!B8 -> Medium | R6: =RISK_SCORE!C8 -> Absence from work
B7: carrying and lifting | C7: =TRUE() -> TRUE | H7: =E7*F7*G7 -> 0 | I7: =IF(H7>70,"!!!"," ") | N7: =K7*L7*M7 -> 0 | P7: =RISK_SCORE!A9 -> 1 | Q7: =RISK_SCORE!B9 -> Minor | R7: =RISK_SCORE!C9 -> First aid
B8: tensioned spring | C8: =TRUE() -> TRUE | H8: =E8*F8*G8 -> 0 | I8: =IF(H8>70,"!!!"," ") | N8: =K8*L8*M8 -> 0 | P8: =RISK_SCORE!A11 -> value "E" | Q8: =RISK_SCORE!B11 -> Exposure description
B9: stressed material | C9: =TRUE() -> TRUE | H9: =E9*F9*G9 -> 0 | I9: =IF(H9>70,"!!!"," ") | N9: =K9*L9*M9 -> 0 | P9: =RISK_SCORE!A12 -> 10 | Q9: =RISK_SCORE!B12 -> Continuous | S9: Operator of the workstation
B10: pressurised gas or steam lines | C10: =TRUE() -> TRUE | H10: =E10*F10*G10 -> 0 | I10: =IF(H10>70,"!!!"," ") | N10: =K10*L10*M10 -> 0 | P10: =RISK_SCORE!A13 -> 6 | Q10: =RISK_SCORE!B13 -> Frequent (daily) | S10: Other workers near the workstation
B11: vacuum | C11: =TRUE() -> TRUE | H11: =E11*F11*G11 -> 0 | I11: =IF(H11>70,"!!!"," ") | N11: =K11*L11*M11 -> 0 | P11: =RISK_SCORE!A14 -> 3 | Q11: =RISK_SCORE!B14 -> Occasional (once a week) | S11: Service staff
A12: kinetic | B12: machine elements moving on linear guides | C12: =TRUE() -> TRUE | H12: =E12*F12*G12 -> 0 | I12: =IF(H12>70,"!!!"," ") | N12: =K12*L12*M12 -> 0 | P12: =RISK_SCORE!A15 -> 2 | Q12: =RISK_SCORE!B15 -> Unusual (once a month) | S12: Service staff
B13: moving arms of robots and manipulators | C13: =TRUE() -> TRUE | H13: =E13*F13*G13 -> 0 | I13: =IF(H13>70,"!!!"," ") | N13: =K13*L13*M13 -> 0 | P13: =RISK_SCORE!A16 -> 1 | Q13: =RISK_SCORE!B16 -> Rare (a few times a year) | S13: Service staff
B14: flying chips or fragments of workpieces | C14: =TRUE() -> TRUE | H14: =E14*F14*G14 -> 0 | I14: =IF(H14>70,"!!!"," ") | N14: =K14*L14*M14 -> 0 | P14: =RISK_SCORE!A17 -> 0.5 | Q14: =RISK_SCORE!B17 -> Very rare (once a year) | S14: Service staff
B15: moving conveyors | C15: =TRUE() -> TRUE | H15: =E15*F15*G15 -> 0 | I15: =IF(H15>70,"!!!"," ") | N15: =K15*L15*M15 -> 0 | P15: =RISK_SCORE!A19 -> value "P" | Q15: =RISK_SCORE!B19 -> Probability description
B16: moving floor vehicles (AGVs) | C16: =TRUE() -> TRUE | H16: =E16*F16*G16 -> 0 | I16: =IF(H16>70,"!!!"," ") | N16: =K16*L16*M16 -> 0 | P16: =RISK_SCORE!A20 -> 10 | Q16: =RISK_SCORE!B20 -> Very likely
B17: liquids or gases ejected under pressure | C17: =TRUE() -> TRUE | H17: =E17*F17*G17 -> 0 | I17: =IF(H17>70,"!!!"," ") | N17: =K17*L17*M17 -> 0 | P17: =RISK_SCORE!A21 -> 6 | Q17: =RISK_SCORE!B21 -> Quite possible
B18: transported materials | C18: =TRUE() -> TRUE | H18: =E18*F18*G18 -> 0 | I18: =IF(H18>70,"!!!"," ") | N18: =K18*L18*M18 -> 0 | P18: =RISK_SCORE!A22 -> 3 | Q18: =RISK_SCORE!B22 -> Unlikely
B19: rotating machine parts | C19: =TRUE() -> TRUE | H19: =E19*F19*G19 -> 0 | I19: =IF(H19>70,"!!!"," ") | N19: =K19*L19*M19 -> 0 | P19: =RISK_SCORE!A23 -> 1 | Q19: =RISK_SCORE!B23 -> Only occasionally
B20: moving drive belts | C20: =TRUE() -> TRUE | H20: =E20*F20*G20 -> 0 | I20: =IF(H20>70,"!!!"," ") | N20: =K20*L20*M20 -> 0 | P20: =RISK_SCORE!A24 -> 0.5 | Q20: =RISK_SCORE!B24 -> Conceivable
B21: rotating shafts, ball screws | C21: =TRUE() -> TRUE | H21: =E21*F21*G21 -> 0 | I21: =IF(H21>70,"!!!"," ") | N21: =K21*L21*M21 -> 0 | P21: =RISK_SCORE!A25 -> 0.2 | Q21: =RISK_SCORE!B25 -> Practically possible
A22: electrical | B22: supply voltage | C22: =TRUE() -> TRUE | H22: =E22*F22*G22 -> 0 | I22: =IF(H22>70,"!!!"," ") | N22: =K22*L22*M22 -> 0 | P22: =RISK_SCORE!A26 -> 0.1 | Q22: =RISK_SCORE!B26 -> Theoretically possible
B23: capacitor voltage | C23: =TRUE() -> TRUE | H23: =E23*F23*G23 -> 0 | I23: =IF(H23>70,"!!!"," ") | N23: =K23*L23*M23 -> 0 | P23: Value "R" | Q23: Risk category | R23: Action required
B24: battery voltage | C24: =TRUE() -> TRUE | H24: =E24*F24*G24 -> 0 | I24: =IF(H24>70,"!!!"," ") | N24: =K24*L24*M24 -> 0 | P24: R ≤ 20 | Q24: Acceptable | R24: Monitoring advised
B25: current (inductive storage or heating) | C25: =TRUE() -> TRUE | H25: =E25*F25*G25 -> 0 | I25: =IF(H25>70,"!!!"," ") | N25: =K25*L25*M25 -> 0 | P25: 20 < R ≤ 70 | Q25: Low | R25: Control needed
B26: magnetic field energy | C26: =TRUE() -> TRUE | H26: =E26*F26*G26 -> 0 | I26: =IF(H26>70,"!!!"," ") | N26: =K26*L26*M26 -> 0 | P26: 70 < R ≤ 200 | Q26: Significant | R26: Improvement needed
A27: heat – cold | B27: hot or cold object | C27: =TRUE() -> TRUE | H27: =E27*F27*G27 -> 0 | I27: =IF(H27>70,"!!!"," ") | N27: =K27*L27*M27 -> 0 | P27: 200 < R ≤ 400 | Q27: High | R27: Immediate improvement needed
B28: heat-emitting sources | C28: =TRUE() -> TRUE | H28: =E28*F28*G28 -> 0 | I28: =IF(H28>70,"!!!"," ") | N28: =K28*L28*M28 -> 0 | P28: R > 400 | Q28: Very high | R28: Stop work
B29: liquid or molten substance | C29: =TRUE() -> TRUE | H29: =E29*F29*G29 -> 0 | I29: =IF(H29>70,"!!!"," ") | N29: =K29*L29*M29 -> 0
B30: internal energy released by chemical reaction | C30: =TRUE() -> TRUE | H30: =E30*F30*G30 -> 0 | I30: =IF(H30>70,"!!!"," ") | N30: =K30*L30*M30 -> 0
A31: chemical | B31: explosives, chemical reactions | C31: =TRUE() -> TRUE | H31: =E31*F31*G31 -> 0 | I31: =IF(H31>70,"!!!"," ") | N31: =K31*L31*M31 -> 0
B32: toxic substances | C32: =TRUE() -> TRUE | H32: =E32*F32*G32 -> 0 | I32: =IF(H32>70,"!!!"," ") | N32: =K32*L32*M32 -> 0
B33: corrosive substances | C33: =TRUE() -> TRUE | H33: =E33*F33*G33 -> 0 | I33: =IF(H33>70,"!!!"," ") | N33: =K33*L33*M33 -> 0
B34: asphyxiating substances | C34: =TRUE() -> TRUE | H34: =E34*F34*G34 -> 0 | I34: =IF(H34>70,"!!!"," ") | N34: =K34*L34*M34 -> 0
A35: radiation | B35: acoustic (noise) | C35: =TRUE() -> TRUE | H35: =E35*F35*G35 -> 0 | I35: =IF(H35>70,"!!!"," ") | N35: =K35*L35*M35 -> 0
B36: electromagnetic | C36: =TRUE() -> TRUE | H36: =E36*F36*G36 -> 0 | I36: =IF(H36>70,"!!!"," ") | N36: =K36*L36*M36 -> 0
B37: infrasound and ultrasound | C37: =TRUE() -> TRUE | H37: =E37*F37*G37 -> 0 | I37: =IF(H37>70,"!!!"," ") | N37: =K37*L37*M37 -> 0
B38: ionising | C38: =TRUE() -> TRUE | H38: =E38*F38*G38 -> 0 | I38: =IF(H38>70,"!!!"," ") | N38: =K38*L38*M38 -> 0

Sheet service_volume
A1: energy | B1: Energy source | C1: present | D1: Hazards resulting from the energy | E1: risk value | J1: Protective measures | K1: risk value | P1: =RISK_SCORE!A3 -> value "S" | Q1: =RISK_SCORE!B3 -> Estimated consequences | R1: =RISK_SCORE!C3 -> Human losses
P2: =RISK_SCORE!A4 -> 100 | Q2: =RISK_SCORE!B4 -> Major catastrophe | R2: =RISK_SCORE!C4 -> Many fatalities
E3: S | F3: E | G3: P | H3: R | K3: S | L3: E | M3: P | N3: R | P3: =RISK_SCORE!A5 -> 50 | Q3: =RISK_SCORE!B5 -> Catastrophe | R3: =RISK_SCORE!C5 -> Several fatalities
A4: potential | B4: person at height | C4: =TRUE() -> TRUE | H4: =E4*F4*G4 -> 0 | I4: =IF(H4>70,"!!!"," ") | N4: =K4*L4*M4 -> 0 | P4: =RISK_SCORE!A6 -> 15 | Q4: =RISK_SCORE!B6 -> Very serious | R4: =RISK_SCORE!C6 -> One fatality | V4: =TRUE() -> TRUE
B5: object at height | C5: =TRUE() -> TRUE | H5: =E5*F5*G5 -> 0 | I5: =IF(H5>70,"!!!"," ") | N5: =K5*L5*M5 -> 0 | P5: =RISK_SCORE!A7 -> 7 | Q5: =RISK_SCORE!B7 -> Serious | R5: =RISK_SCORE!C7 -> Severe injury | V5: =FALSE() -> FALSE
B6: collapsing structure | C6: =TRUE() -> TRUE | H6: =E6*F6*G6 -> 0 | I6: =IF(H6>70,"!!!"," ") | N6: =K6*L6*M6 -> 0 | P6: =RISK_SCORE!A8 -> 3 | Q6: =RISK_SCORE!B8 -> Medium | R6: =RISK_SCORE!C8 -> Absence from work
B7: carrying and lifting | C7: =TRUE() -> TRUE | H7: =E7*F7*G7 -> 0 | I7: =IF(H7>70,"!!!"," ") | N7: =K7*L7*M7 -> 0 | P7: =RISK_SCORE!A9 -> 1 | Q7: =RISK_SCORE!B9 -> Minor | R7: =RISK_SCORE!C9 -> First aid
B8: tensioned spring | C8: =TRUE() -> TRUE | H8: =E8*F8*G8 -> 0 | I8: =IF(H8>70,"!!!"," ") | N8: =K8*L8*M8 -> 0 | P8: =RISK_SCORE!A11 -> value "E" | Q8: =RISK_SCORE!B11 -> Exposure description
B9: stressed material | C9: =TRUE() -> TRUE | H9: =E9*F9*G9 -> 0 | I9: =IF(H9>70,"!!!"," ") | N9: =K9*L9*M9 -> 0 | P9: =RISK_SCORE!A12 -> 10 | Q9: =RISK_SCORE!B12 -> Continuous | S9: Operator of the workstation
B10: pressurised gas or steam lines | C10: =TRUE() -> TRUE | H10: =E10*F10*G10 -> 0 | I10: =IF(H10>70,"!!!"," ") | N10: =K10*L10*M10 -> 0 | P10: =RISK_SCORE!A13 -> 6 | Q10: =RISK_SCORE!B13 -> Frequent (daily) | S10: Other workers near the workstation
B11: vacuum | C11: =TRUE() -> TRUE | H11: =E11*F11*G11 -> 0 | I11: =IF(H11>70,"!!!"," ") | N11: =K11*L11*M11 -> 0 | P11: =RISK_SCORE!A14 -> 3 | Q11: =RISK_SCORE!B14 -> Occasional (once a week) | S11: Service staff
A12: kinetic | B12: machine elements moving on linear guides | C12: =TRUE() -> TRUE | H12: =E12*F12*G12 -> 0 | I12: =IF(H12>70,"!!!"," ") | N12: =K12*L12*M12 -> 0 | P12: =RISK_SCORE!A15 -> 2 | Q12: =RISK_SCORE!B15 -> Unusual (once a month) | S12: Service staff
B13: moving arms of robots and manipulators | C13: =TRUE() -> TRUE | H13: =E13*F13*G13 -> 0 | I13: =IF(H13>70,"!!!"," ") | N13: =K13*L13*M13 -> 0 | P13: =RISK_SCORE!A16 -> 1 | Q13: =RISK_SCORE!B16 -> Rare (a few times a year) | S13: Service staff
B14: flying chips or fragments of workpieces | C14: =TRUE() -> TRUE | H14: =E14*F14*G14 -> 0 | I14: =IF(H14>70,"!!!"," ") | N14: =K14*L14*M14 -> 0 | P14: =RISK_SCORE!A17 -> 0.5 | Q14: =RISK_SCORE!B17 -> Very rare (once a year) | S14: Service staff
B15: moving conveyors | C15: =TRUE() -> TRUE | H15: =E15*F15*G15 -> 0 | I15: =IF(H15>70,"!!!"," ") | N15: =K15*L15*M15 -> 0 | P15: =RISK_SCORE!A19 -> value "P" | Q15: =RISK_SCORE!B19 -> Probability description
B16: moving floor vehicles (AGVs) | C16: =TRUE() -> TRUE | H16: =E16*F16*G16 -> 0 | I16: =IF(H16>70,"!!!"," ") | N16: =K16*L16*M16 -> 0 | P16: =RISK_SCORE!A20 -> 10 | Q16: =RISK_SCORE!B20 -> Very likely
B17: liquids or gases ejected under pressure | C17: =TRUE() -> TRUE | H17: =E17*F17*G17 -> 0 | I17: =IF(H17>70,"!!!"," ") | N17: =K17*L17*M17 -> 0 | P17: =RISK_SCORE!A21 -> 6 | Q17: =RISK_SCORE!B21 -> Quite possible
B18: transported materials | C18: =TRUE() -> TRUE | H18: =E18*F18*G18 -> 0 | I18: =IF(H18>70,"!!!"," ") | N18: =K18*L18*M18 -> 0 | P18: =RISK_SCORE!A22 -> 3 | Q18: =RISK_SCORE!B22 -> Unlikely
B19: rotating machine parts | C19: =TRUE() -> TRUE | H19: =E19*F19*G19 -> 0 | I19: =IF(H19>70,"!!!"," ") | N19: =K19*L19*M19 -> 0 | P19: =RISK_SCORE!A23 -> 1 | Q19: =RISK_SCORE!B23 -> Only occasionally
B20: moving drive belts | C20: =TRUE() -> TRUE | H20: =E20*F20*G20 -> 0 | I20: =IF(H20>70,"!!!"," ") | N20: =K20*L20*M20 -> 0 | P20: =RISK_SCORE!A24 -> 0.5 | Q20: =RISK_SCORE!B24 -> Conceivable
B21: rotating shafts, ball screws | C21: =TRUE() -> TRUE | H21: =E21*F21*G21 -> 0 | I21: =IF(H21>70,"!!!"," ") | N21: =K21*L21*M21 -> 0 | P21: =RISK_SCORE!A25 -> 0.2 | Q21: =RISK_SCORE!B25 -> Practically possible
A22: electrical | B22: supply voltage | C22: =TRUE() -> TRUE | H22: =E22*F22*G22 -> 0 | I22: =IF(H22>70,"!!!"," ") | N22: =K22*L22*M22 -> 0 | P22: =RISK_SCORE!A26 -> 0.1 | Q22: =RISK_SCORE!B26 -> Theoretically possible
B23: capacitor voltage | C23: =TRUE() -> TRUE | H23: =E23*F23*G23 -> 0 | I23: =IF(H23>70,"!!!"," ") | N23: =K23*L23*M23 -> 0 | P23: Value "R" | Q23: Risk category | R23: Action required
B24: battery voltage | C24: =TRUE() -> TRUE | H24: =E24*F24*G24 -> 0 | I24: =IF(H24>70,"!!!"," ") | N24: =K24*L24*M24 -> 0 | P24: R ≤ 20 | Q24: Acceptable | R24: Monitoring advised
B25: current (inductive storage or heating) | C25: =TRUE() -> TRUE | H25: =E25*F25*G25 -> 0 | I25: =IF(H25>70,"!!!"," ") | N25: =K25*L25*M25 -> 0 | P25: 20 < R ≤ 70 | Q25: Low | R25: Control needed
B26: magnetic field energy | C26: =TRUE() -> TRUE | H26: =E26*F26*G26 -> 0 | I26: =IF(H26>70,"!!!"," ") | N26: =K26*L26*M26 -> 0 | P26: 70 < R ≤ 200 | Q26: Significant | R26: Improvement needed
A27: heat – cold | B27: hot or cold object | C27: =TRUE() -> TRUE | H27: =E27*F27*G27 -> 0 | I27: =IF(H27>70,"!!!"," ") | N27: =K27*L27*M27 -> 0 | P27: 200 < R ≤ 400 | Q27: High | R27: Immediate improvement needed
B28: heat-emitting sources | C28: =TRUE() -> TRUE | H28: =E28*F28*G28 -> 0 | I28: =IF(H28>70,"!!!"," ") | N28: =K28*L28*M28 -> 0 | P28: R > 400 | Q28: Very high | R28: Stop work
B29: liquid or molten substance | C29: =TRUE() -> TRUE | H29: =E29*F29*G29 -> 0 | I29: =IF(H29>70,"!!!"," ") | N29: =K29*L29*M29 -> 0
B30: internal energy released by chemical reaction | C30: =TRUE() -> TRUE | H30: =E30*F30*G30 -> 0 | I30: =IF(H30>70,"!!!"," ") | N30: =K30*L30*M30 -> 0
A31: chemical | B31: explosives, chemical reactions | C31: =TRUE() -> TRUE | H31: =E31*F31*G31 -> 0 | I31: =IF(H31>70,"!!!"," ") | N31: =K31*L31*M31 -> 0
B32: toxic substances | C32: =TRUE() -> TRUE | H32: =E32*F32*G32 -> 0 | I32: =IF(H32>70,"!!!"," ") | N32: =K32*L32*M32 -> 0
B33: corrosive substances | C33: =TRUE() -> TRUE | H33: =E33*F33*G33 -> 0 | I33: =IF(H33>70,"!!!"," ") | N33: =K33*L33*M33 -> 0
B34: asphyxiating substances | C34: =TRUE() -> TRUE | H34: =E34*F34*G34 -> 0 | I34: =IF(H34>70,"!!!"," ") | N34: =K34*L34*M34 -> 0
A35: radiation | B35: acoustic (noise) | C35: =TRUE() -> TRUE | H35: =E35*F35*G35 -> 0 | I35: =IF(H35>70,"!!!"," ") | N35: =K35*L35*M35 -> 0
B36: electromagnetic | C36: =TRUE() -> TRUE | H36: =E36*F36*G36 -> 0 | I36: =IF(H36>70,"!!!"," ") | N36: =K36*L36*M36 -> 0
B37: infrasound and ultrasound | C37: =TRUE() -> TRUE | H37: =E37*F37*G37 -> 0 | I37: =IF(H37>70,"!!!"," ") | N37: =K37*L37*M37 -> 0
B38: ionising | C38: =TRUE() -> TRUE | H38: =E38*F38*G38 -> 0 | I38: =IF(H38>70,"!!!"," ") | N38: =K38*L38*M38 -> 0

Sheet RISK_SCORE
A1: RISK SCORE
A3: value "S" | B3: Estimated consequences | C3: Human losses
A4: 100 | B4: Major catastrophe | C4: Many fatalities
A5: 50 | B5: Catastrophe | C5: Several fatalities
A6: 15 | B6: Very serious | C6: One fatality
A7: 7 | B7: Serious | C7: Severe injury
A8: 3 | B8: Medium | C8: Absence from work
A9: 1 | B9: Minor | C9: First aid
A11: value "E" | B11: Exposure description
A12: 10 | B12: Continuous
A13: 6 | B13: Frequent (daily)
A14: 3 | B14: Occasional (once a week)
A15: 2 | B15: Unusual (once a month)
A16: 1 | B16: Rare (a few times a year)
A17: 0.5 | B17: Very rare (once a year)
A19: value "P" | B19: Probability description
A20: 10 | B20: Very likely
A21: 6 | B21: Quite possible
A22: 3 | B22: Unlikely
A23: 1 | B23: Only occasionally
A24: 0.5 | B24: Conceivable
A25: 0.2 | B25: Practically possible
A26: 0.1 | B26: Theoretically possible
A28: Value "R" | B28: Risk category | C28: Action required
A29: R ≤ 20 | B29: Acceptable | C29: Monitoring advised
A30: 20 < R ≤ 70 | B30: Low | C30: Control needed
A31: 70 < R ≤ 200 | B31: Significant | C31: Improvement needed
A32: 200 < R ≤ 400 | B32: High | C32: Immediate improvement needed
A33: R > 400 | B33: Very high | C33: Stop work

Sheet safeguards
B4: Personal protective equipment (PPE) to be used | C4: Safe-work procedures to be prepared
A5: 1
A6: 2
A7: 3
A8: 4
A9: 5
A10: 6
A11: 7
A12: 8
A13: 9
A14: 10
A15: 11
A16: 12
A17: 13

Sheet safety_functions
A1: Function no. | B1: Safety function definition | C1: Comment | D1: Severity of injury S1/S2 | E1: Frequency and/or duration of exposure F1/F2 | F1: Possibility of avoiding the hazard or limiting harm P1/P2 | G1: Required performance level PLr
A2: SF1 | D2: S2 | E2: F2 | F2: P2 | G2: PL e | J2: pneumatic brake on the manipulator
A3: SF2 | J3: add reset functions
A4: SF3
A5: SF4 | J5: manipulator end stops (buffers)
A6: SF5 | J6: manipulator home position with two sensors or exhaust valves
A7: SF6 | J7: automatic unlocking after e-stop
A8: SF7 | J8: replace two-hand with one-hand control
A9: SF8 | J9: service mode selector for jog mode
A10: SF9
A11: SF10
A12: SF11
A13: SF12
A14: SF13
A15: SF14
A16: SF15
A17: SF16
A18: SF17
A19: SF18
A20: SF19
A21: SF20
... A35: SF34

Sheet risk_graph
A1: risk graph

Sheet examples
C3: > qualified personnel, > lockout/tagout (LOTO) procedure, > insulating mats for work on open live electrical cabinets, > insulated tools, > live work and work without LOTO only by two persons (the second person as safety backup) | D3: > LOTO locks on the door bolts, > escape release handles on the door bolts, > robot service mode, > service (jog) mode for single motions of the workstation, with a three-position enabling (deadman) switch, > emergency stop button inside the danger zone
