Workbook
Name _1Excel_BuiltIn__FilterDatabase_1: obj_serw!$A$3:$V$38

Sheet obj_prac
A1: energia | B1: Źródło energii | C1: wystę- powanie | D1: Zagrożenia wynikające z występowania energii ` | E1: wartość funkcji ryzyka | J1: Środki zapobiegawcze (występujące wymagane) | K1: wartość funkcji ryzyka | P1: =RISC_SCORE!A3 -> wartość "S" | Q1: =RISC_SCORE!B3 -> Szacowane straty | R1: =RISC_SCORE!C3 -> Straty ludzkie
P2: =RISC_SCORE!A4 -> 100 | Q2: =RISC_SCORE!B4 -> Poważna katastrofa | R2: =RISC_SCORE!C4 -> Wiele ofiar śmiertelnych
E3: S | F3: E | G3: P | H3: R | K3: S | L3: E | M3: P | N3: R | P3: =RISC_SCORE!A5 -> 50 | Q3: =RISC_SCORE!B5 -> Katastrofa | R3: =RISC_SCORE!C5 -> Kilka ofiar śmiertelnych
A4: potencjalna | B4: osoba na wysokości | C4: =TRUE -> TRUE | H4: =E4*F4*G4 -> 0 | I4: =IF(H4>70,"!!!"," ") | N4: =K4*L4*M4 -> 0 | P4: =RISC_SCORE!A6 -> 15 | Q4: =RISC_SCORE!B6 -> Bardzo duża | R4: =RISC_SCORE!C6 -> Jedna ofiara śmiertelna | V4: =TRUE -> TRUE
B5: obiekt na wysokości | C5: =TRUE -> TRUE | H5: =E5*F5*G5 -> 0 | I5: =IF(H5>70,"!!!"," ") | N5: =K5*L5*M5 -> 0 | P5: =RISC_SCORE!A7 -> 7 | Q5: =RISC_SCORE!B7 -> Duża | R5: =RISC_SCORE!C7 -> Ciężkie uszkodzenie | V5: =FALSE -> FALSE
B6: załamująca się konstrukcja | C6: =TRUE -> TRUE | H6: =E6*F6*G6 -> 0 | I6: =IF(H6>70,"!!!"," ") | N6: =K6*L6*M6 -> 0 | P6: =RISC_SCORE!A8 -> 3 | Q6: =RISC_SCORE!B8 -> Średnia | R6: =RISC_SCORE!C8 -> Absencja
B7: przenoszenie i podnoszenie | C7: =TRUE -> TRUE | H7: =E7*F7*G7 -> 0 | I7: =IF(H7>70,"!!!"," ") | N7: =K7*L7*M7 -> 0 | P7: =RISC_SCORE!A9 -> 1 | Q7: =RISC_SCORE!B9 -> Mała | R7: =RISC_SCORE!C9 -> Udzielenie pierwszej pomocy
B8: natężona sprężyna | C8: =TRUE -> TRUE | H8: =E8*F8*G8 -> 0 | I8: =IF(H8>70,"!!!"," ") | N8: =K8*L8*M8 -> 0 | P8: =RISC_SCORE!A11 -> wartość "E" | Q8: =RISC_SCORE!B11 -> Opis ekspozycji
B9: naprężony materiał | C9: =TRUE -> TRUE | H9: =E9*F9*G9 -> 0 | I9: =IF(H9>70,"!!!"," ") | N9: =K9*L9*M9 -> 0 | P9: =RISC_SCORE!A12 -> 10 | Q9: =RISC_SCORE!B12 -> Stała | S9: Pracownik obsługujący stanowisko pracy
B10: przewody pod ciśnieniem z gazem, parą | C10: =TRUE -> TRUE | H10: =E10*F10*G10 -> 0 | I10: =IF(H10>70,"!!!"," ") | N10: =K10*L10*M10 -> 0 | P10: =RISC_SCORE!A13 -> 6 | Q10: =RISC_SCORE!B13 -> Częsta (codzienna) | S10: Inni pracownicy w otoczeniu stanowiska
B11: próżnia | C11: =TRUE -> TRUE | H11: =E11*F11*G11 -> 0 | I11: =IF(H11>70,"!!!"," ") | N11: =K11*L11*M11 -> 0 | P11: =RISC_SCORE!A14 -> 3 | Q11: =RISC_SCORE!B14 -> Sporadyczna (raz na tydzień) | S11: Pracownicy serwisu
A12: kinetyczna | B12: wysuwające się elementy maszyn na prowadnicach liniowych | C12: =TRUE -> TRUE | H12: =E12*F12*G12 -> 0 | I12: =IF(H12>70,"!!!"," ") | N12: =K12*L12*M12 -> 0 | P12: =RISC_SCORE!A15 -> 2 | Q12: =RISC_SCORE!B15 -> Okazyjna (raz w miesiącu) | S12: Pracownicy serwisu
B13: przemieszczające się ramiona robotów, manipulatorów | C13: =TRUE -> TRUE | H13: =E13*F13*G13 -> 0 | I13: =IF(H13>70,"!!!"," ") | N13: =K13*L13*M13 -> 0 | P13: =RISC_SCORE!A16 -> 1 | Q13: =RISC_SCORE!B16 -> Minimalna (kilka razy w roku) | S13: Pracownicy serwisu
B14: bezwładność wiórów lub odpryski przedmiotów obróbki | C14: =TRUE -> TRUE | H14: =E14*F14*G14 -> 0 | I14: =IF(H14>70,"!!!"," ") | N14: =K14*L14*M14 -> 0 | P14: =RISC_SCORE!A17 -> 0.5 | Q14: =RISC_SCORE!B17 -> Znikoma (raz w roku) | S14: Pracownicy serwisu
B15: ruch transporterów | C15: =TRUE -> TRUE | H15: =E15*F15*G15 -> 0 | I15: =IF(H15>70,"!!!"," ") | N15: =K15*L15*M15 -> 0 | P15: =RISC_SCORE!A19 -> wartość "P" | Q15: =RISC_SCORE!B19 -> Opis prawdopodobieństwa
B16: ruch wózków podłogowych robocarów | C16: =TRUE -> TRUE | H16: =E16*F16*G16 -> 0 | I16: =IF(H16>70,"!!!"," ") | N16: =K16*L16*M16 -> 0 | P16: =RISC_SCORE!A20 -> 10 | Q16: =RISC_SCORE!B20 -> Bardzo prawdopodobne
B17: wytryskujące pod ciśnieniem ciecze, gazy | C17: =TRUE -> TRUE | H17: =E17*F17*G17 -> 0 | I17: =IF(H17>70,"!!!"," ") | N17: =K17*L17*M17 -> 0 | P17: =RISC_SCORE!A21 -> 6 | Q17: =RISC_SCORE!B21 -> Całkiem prawdopodobne
B18: transportowane materiały | C18: =TRUE -> TRUE | H18: =E18*F18*G18 -> 0 | I18: =IF(H18>70,"!!!"," ") | N18: =K18*L18*M18 -> 0 | P18: =RISC_SCORE!A22 -> 3 | Q18: =RISC_SCORE!B22 -> Mało prawdopodobne
B19: wirujące części maszyn | C19: =TRUE -> TRUE | H19: =E19*F19*G19 -> 0 | I19: =IF(H19>70,"!!!"," ") | N19: =K19*L19*M19 -> 0 | P19: =RISC_SCORE!A23 -> 1 | Q19: =RISC_SCORE!B23 -> Tylko sporadycznie
B20: ruch pasów transmisyjnych | C20: =TRUE -> TRUE | H20: =E20*F20*G20 -> 0 | I20: =IF(H20>70,"!!!"," ") | N20: =K20*L20*M20 -> 0 | P20: =RISC_SCORE!A24 -> 0.5 | Q20: =RISC_SCORE!B24 -> Możliwe do pomyślenia
B21: ruch wałów, śrub tocznych | C21: =TRUE -> TRUE | H21: =E21*F21*G21 -> 0 | I21: =IF(H21>70,"!!!"," ") | N21: =K21*L21*M21 -> 0 | P21: =RISC_SCORE!A25 -> 0.2 | Q21: =RISC_SCORE!B25 -> Praktycznie możliwe
A22: elektyryczna | B22: napięcie zasilania | C22: =TRUE -> TRUE | H22: =E22*F22*G22 -> 0 | I22: =IF(H22>70,"!!!"," ") | N22: =K22*L22*M22 -> 0 | P22: =RISC_SCORE!A26 -> 0.1 | Q22: =RISC_SCORE!B26 -> Teoterycznie możliwe
B23: napięcie kondensatora | C23: =TRUE -> TRUE | H23: =E23*F23*G23 -> 0 | I23: =IF(H23>70,"!!!"," ") | N23: =K23*L23*M23 -> 0 | P23: Wartość "R" | Q23: Kategorie ryzyka | R23: Działania zapobiegawcze
B24: napięcie akumulatora | C24: =TRUE -> TRUE | H24: =E24*F24*G24 -> 0 | I24: =IF(H24>70,"!!!"," ") | N24: =K24*L24*M24 -> 0 | P24: R <= 20 | Q24: Akceptowalne | R24: Wskazana kontrola
B25: prąd (magazynowanie indukcyjne lub grzanie) | C25: =TRUE -> TRUE | H25: =E25*F25*G25 -> 0 | I25: =IF(H25>70,"!!!"," ") | N25: =K25*L25*M25 -> 0 | P25: 20 < R < 70 | Q25: Małe | R25: Potrzebna kontrola
B26: energia pola magnetycznego | C26: =TRUE -> TRUE | H26: =E26*F26*G26 -> 0 | I26: =IF(H26>70,"!!!"," ") | N26: =K26*L26*M26 -> 0 | P26: 70 < R < 200 | Q26: Istotne | R26: Potrzebna poprawa
A27: ciepło - zimno | B27: gorący zimny przedmiot | C27: =TRUE -> TRUE | H27: =E27*F27*G27 -> 0 | I27: =IF(H27>70,"!!!"," ") | N27: =K27*L27*M27 -> 0 | P27: 200 < R <= 400 | Q27: Duże | R27: Potrzebna natychmiastowa poprawa
B28: źródła służące emitowaniu ciepła | C28: =TRUE -> TRUE | H28: =E28*F28*G28 -> 0 | I28: =IF(H28>70,"!!!"," ") | N28: =K28*L28*M28 -> 0 | P28: R > 400 | Q28: Bardzo duże | R28: Wskazane wstrzymanie pracy
B29: ciekła, stopiona substancja | C29: =TRUE -> TRUE | H29: =E29*F29*G29 -> 0 | I29: =IF(H29>70,"!!!"," ") | N29: =K29*L29*M29 -> 0
B30: e. wewnętrzna wydzielana z reakcji chemicznej | C30: =TRUE -> TRUE | H30: =E30*F30*G30 -> 0 | I30: =IF(H30>70,"!!!"," ") | N30: =K30*L30*M30 -> 0
A31: oddziaływania chemiczne | B31: materiały wybuchowe reakcje chemiczne | C31: =TRUE -> TRUE | H31: =E31*F31*G31 -> 0 | I31: =IF(H31>70,"!!!"," ") | N31: =K31*L31*M31 -> 0
B32: trucizny | C32: =TRUE -> TRUE | H32: =E32*F32*G32 -> 0 | I32: =IF(H32>70,"!!!"," ") | N32: =K32*L32*M32 -> 0
B33: substancje korodujące | C33: =TRUE -> TRUE | H33: =E33*F33*G33 -> 0 | I33: =IF(H33>70,"!!!"," ") | N33: =K33*L33*M33 -> 0
B34: substancje duszące | C34: =TRUE -> TRUE | H34: =E34*F34*G34 -> 0 | I34: =IF(H34>70,"!!!"," ") | N34: =K34*L34*M34 -> 0
A35: promienio-wanie | B35: akustyczne | C35: =TRUE -> TRUE | H35: =E35*F35*G35 -> 0 | I35: =IF(H35>70,"!!!"," ") | N35: =K35*L35*M35 -> 0
B36: elektromagnetyczne | C36: =TRUE -> TRUE | H36: =E36*F36*G36 -> 0 | I36: =IF(H36>70,"!!!"," ") | N36: =K36*L36*M36 -> 0
B37: Infra i ultradźwiękowe | C37: =TRUE -> TRUE | H37: =E37*F37*G37 -> 0 | I37: =IF(H37>70,"!!!"," ") | N37: =K37*L37*M37 -> 0
B38: jonizujące | C38: =TRUE -> TRUE | H38: =E38*F38*G38 -> 0 | I38: =IF(H38>70,"!!!"," ") | N38: =K38*L38*M38 -> 0

Sheet obj_zewn
A1: energia | B1: Źródło energii | C1: wystę- powanie | D1: Zagrożenia wynikające z występowania energii | E1: wartość funkcji ryzyka | J1: Środki zapobiegawcze (występujące wymagane) | K1: wartość funkcji ryzyka | P1: =RISC_SCORE!A3 -> wartość "S" | Q1: =RISC_SCORE!B3 -> Szacowane straty | R1: =RISC_SCORE!C3 -> Straty ludzkie
P2: =RISC_SCORE!A4 -> 100 | Q2: =RISC_SCORE!B4 -> Poważna katastrofa | R2: =RISC_SCORE!C4 -> Wiele ofiar śmiertelnych
E3: S | F3: E | G3: P | H3: R | K3: S | L3: E | M3: P | N3: R | P3: =RISC_SCORE!A5 -> 50 | Q3: =RISC_SCORE!B5 -> Katastrofa | R3: =RISC_SCORE!C5 -> Kilka ofiar śmiertelnych
A4: potencjalna | B4: osoba na wysokości | C4: =TRUE -> TRUE | H4: =E4*F4*G4 -> 0 | I4: =IF(H4>70,"!!!"," ") | N4: =K4*L4*M4 -> 0 | P4: =RISC_SCORE!A6 -> 15 | Q4: =RISC_SCORE!B6 -> Bardzo duża | R4: =RISC_SCORE!C6 -> Jedna ofiara śmiertelna | V4: =TRUE -> TRUE
B5: obiekt na wysokości | C5: =TRUE -> TRUE | H5: =E5*F5*G5 -> 0 | I5: =IF(H5>70,"!!!"," ") | N5: =K5*L5*M5 -> 0 | P5: =RISC_SCORE!A7 -> 7 | Q5: =RISC_SCORE!B7 -> Duża | R5: =RISC_SCORE!C7 -> Ciężkie uszkodzenie | V5: =FALSE -> FALSE
B6: załamująca się konstrukcja | C6: =TRUE -> TRUE | H6: =E6*F6*G6 -> 0 | I6: =IF(H6>70,"!!!"," ") | N6: =K6*L6*M6 -> 0 | P6: =RISC_SCORE!A8 -> 3 | Q6: =RISC_SCORE!B8 -> Średnia | R6: =RISC_SCORE!C8 -> Absencja
B7: przenoszenie i podnoszenie | C7: =TRUE -> TRUE | H7: =E7*F7*G7 -> 0 | I7: =IF(H7>70,"!!!"," ") | N7: =K7*L7*M7 -> 0 | P7: =RISC_SCORE!A9 -> 1 | Q7: =RISC_SCORE!B9 -> Mała | R7: =RISC_SCORE!C9 -> Udzielenie pierwszej pomocy
B8: natężona sprężyna | C8: =TRUE -> TRUE | H8: =E8*F8*G8 -> 0 | I8: =IF(H8>70,"!!!"," ") | N8: =K8*L8*M8 -> 0 | P8: =RISC_SCORE!A11 -> wartość "E" | Q8: =RISC_SCORE!B11 -> Opis ekspozycji
B9: naprężony materiał | C9: =TRUE -> TRUE | H9: =E9*F9*G9 -> 0 | I9: =IF(H9>70,"!!!"," ") | N9: =K9*L9*M9 -> 0 | P9: =RISC_SCORE!A12 -> 10 | Q9: =RISC_SCORE!B12 -> Stała | S9: Pracownik obsługujący stanowisko pracy
B10: przewody pod ciśnieniem z gazem, parą | C10: =TRUE -> TRUE | H10: =E10*F10*G10 -> 0 | I10: =IF(H10>70,"!!!"," ") | N10: =K10*L10*M10 -> 0 | P10: =RISC_SCORE!A13 -> 6 | Q10: =RISC_SCORE!B13 -> Częsta (codzienna) | S10: Inni pracownicy w otoczeniu stanowiska
B11: próżnia | C11: =TRUE -> TRUE | H11: =E11*F11*G11 -> 0 | I11: =IF(H11>70,"!!!"," ") | N11: =K11*L11*M11 -> 0 | P11: =RISC_SCORE!A14 -> 3 | Q11: =RISC_SCORE!B14 -> Sporadyczna (raz na tydzień) | S11: Pracownicy serwisu
A12: kinetyczna | B12: wysuwające się elementy maszyn na prowadnicach liniowych | C12: =TRUE -> TRUE | H12: =E12*F12*G12 -> 0 | I12: =IF(H12>70,"!!!"," ") | N12: =K12*L12*M12 -> 0 | P12: =RISC_SCORE!A15 -> 2 | Q12: =RISC_SCORE!B15 -> Okazyjna (raz w miesiącu) | S12: Pracownicy serwisu
B13: przemieszczające się ramiona robotów, manipulatorów | C13: =TRUE -> TRUE | H13: =E13*F13*G13 -> 0 | I13: =IF(H13>70,"!!!"," ") | N13: =K13*L13*M13 -> 0 | P13: =RISC_SCORE!A16 -> 1 | Q13: =RISC_SCORE!B16 -> Minimalna (kilka razy w roku) | S13: Pracownicy serwisu
B14: bezwładność wiórów lub odpryski przedmiotów obróbki | C14: =TRUE -> TRUE | H14: =E14*F14*G14 -> 0 | I14: =IF(H14>70,"!!!"," ") | N14: =K14*L14*M14 -> 0 | P14: =RISC_SCORE!A17 -> 0.5 | Q14: =RISC_SCORE!B17 -> Znikoma (raz w roku) | S14: Pracownicy serwisu
B15: ruch transporterów | C15: =TRUE -> TRUE | H15: =E15*F15*G15 -> 0 | I15: =IF(H15>70,"!!!"," ") | N15: =K15*L15*M15 -> 0 | P15: =RISC_SCORE!A19 -> wartość "P" | Q15: =RISC_SCORE!B19 -> Opis prawdopodobieństwa
B16: ruch wózków podłogowych robocarów | C16: =TRUE -> TRUE | H16: =E16*F16*G16 -> 0 | I16: =IF(H16>70,"!!!"," ") | N16: =K16*L16*M16 -> 0 | P16: =RISC_SCORE!A20 -> 10 | Q16: =RISC_SCORE!B20 -> Bardzo prawdopodobne
B17: wytryskujące pod ciśnieniem ciecze, gazy | C17: =TRUE -> TRUE | H17: =E17*F17*G17 -> 0 | I17: =IF(H17>70,"!!!"," ") | N17: =K17*L17*M17 -> 0 | P17: =RISC_SCORE!A21 -> 6 | Q17: =RISC_SCORE!B21 -> Całkiem prawdopodobne
B18: transportowane materiały | C18: =TRUE -> TRUE | H18: =E18*F18*G18 -> 0 | I18: =IF(H18>70,"!!!"," ") | N18: =K18*L18*M18 -> 0 | P18: =RISC_SCORE!A22 -> 3 | Q18: =RISC_SCORE!B22 -> Mało prawdopodobne
B19: wirujące części maszyn | C19: =TRUE -> TRUE | H19: =E19*F19*G19 -> 0 | I19: =IF(H19>70,"!!!"," ") | N19: =K19*L19*M19 -> 0 | P19: =RISC_SCORE!A23 -> 1 | Q19: =RISC_SCORE!B23 -> Tylko sporadycznie
B20: ruch pasów transmisyjnych | C20: =TRUE -> TRUE | H20: =E20*F20*G20 -> 0 | I20: =IF(H20>70,"!!!"," ") | N20: =K20*L20*M20 -> 0 | P20: =RISC_SCORE!A24 -> 0.5 | Q20: =RISC_SCORE!B24 -> Możliwe do pomyślenia
B21: ruch wałów, śrub tocznych | C21: =TRUE -> TRUE | H21: =E21*F21*G21 -> 0 | I21: =IF(H21>70,"!!!"," ") | N21: =K21*L21*M21 -> 0 | P21: =RISC_SCORE!A25 -> 0.2 | Q21: =RISC_SCORE!B25 -> Praktycznie możliwe
A22: elektyryczna | B22: napięcie zasilania | C22: =TRUE -> TRUE | H22: =E22*F22*G22 -> 0 | I22: =IF(H22>70,"!!!"," ") | N22: =K22*L22*M22 -> 0 | P22: =RISC_SCORE!A26 -> 0.1 | Q22: =RISC_SCORE!B26 -> Teoterycznie możliwe
B23: napięcie kondensatora | C23: =TRUE -> TRUE | H23: =E23*F23*G23 -> 0 | I23: =IF(H23>70,"!!!"," ") | N23: =K23*L23*M23 -> 0 | P23: Wartość "R" | Q23: Kategorie ryzyka | R23: Działania zapobiegawcze
B24: napięcie akumulatora | C24: =TRUE -> TRUE | H24: =E24*F24*G24 -> 0 | I24: =IF(H24>70,"!!!"," ") | N24: =K24*L24*M24 -> 0 | P24: R <= 20 | Q24: Akceptowalne | R24: Wskazana kontrola
B25: prąd (magazynowanie indukcyjne lub grzanie) | C25: =TRUE -> TRUE | H25: =E25*F25*G25 -> 0 | I25: =IF(H25>70,"!!!"," ") | N25: =K25*L25*M25 -> 0 | P25: 20 < R < 70 | Q25: Małe | R25: Potrzebna kontrola
B26: energia pola magnetycznego | C26: =TRUE -> TRUE | H26: =E26*F26*G26 -> 0 | I26: =IF(H26>70,"!!!"," ") | N26: =K26*L26*M26 -> 0 | P26: 70 < R < 200 | Q26: Istotne | R26: Potrzebna poprawa
A27: ciepło - zimno | B27: gorący zimny przedmiot | C27: =TRUE -> TRUE | H27: =E27*F27*G27 -> 0 | I27: =IF(H27>70,"!!!"," ") | N27: =K27*L27*M27 -> 0 | P27: 200 < R <= 400 | Q27: Duże | R27: Potrzebna natychmiastowa poprawa
B28: źródła służące emitowaniu ciepła | C28: =TRUE -> TRUE | H28: =E28*F28*G28 -> 0 | I28: =IF(H28>70,"!!!"," ") | N28: =K28*L28*M28 -> 0 | P28: R > 400 | Q28: Bardzo duże | R28: Wskazane wstrzymanie pracy
B29: ciekła, stopiona substancja | C29: =TRUE -> TRUE | H29: =E29*F29*G29 -> 0 | I29: =IF(H29>70,"!!!"," ") | N29: =K29*L29*M29 -> 0
B30: e. wewnętrzna wydzielana z reakcji chemicznej | C30: =TRUE -> TRUE | H30: =E30*F30*G30 -> 0 | I30: =IF(H30>70,"!!!"," ") | N30: =K30*L30*M30 -> 0
A31: oddziaływania chemiczne | B31: materiały wybuchowe reakcje chemiczne | C31: =TRUE -> TRUE | H31: =E31*F31*G31 -> 0 | I31: =IF(H31>70,"!!!"," ") | N31: =K31*L31*M31 -> 0
B32: trucizny | C32: =TRUE -> TRUE | H32: =E32*F32*G32 -> 0 | I32: =IF(H32>70,"!!!"," ") | N32: =K32*L32*M32 -> 0
B33: substancje korodujące | C33: =TRUE -> TRUE | H33: =E33*F33*G33 -> 0 | I33: =IF(H33>70,"!!!"," ") | N33: =K33*L33*M33 -> 0
B34: substancje duszące | C34: =TRUE -> TRUE | H34: =E34*F34*G34 -> 0 | I34: =IF(H34>70,"!!!"," ") | N34: =K34*L34*M34 -> 0
A35: promienio-wanie | B35: akustyczne | C35: =TRUE -> TRUE | H35: =E35*F35*G35 -> 0 | I35: =IF(H35>70,"!!!"," ") | N35: =K35*L35*M35 -> 0
B36: elektromagnetyczne | C36: =TRUE -> TRUE | H36: =E36*F36*G36 -> 0 | I36: =IF(H36>70,"!!!"," ") | N36: =K36*L36*M36 -> 0
B37: Infra i ultradźwiękowe | C37: =TRUE -> TRUE | H37: =E37*F37*G37 -> 0 | I37: =IF(H37>70,"!!!"," ") | N37: =K37*L37*M37 -> 0
B38: jonizujące | C38: =TRUE -> TRUE | H38: =E38*F38*G38 -> 0 | I38: =IF(H38>70,"!!!"," ") | N38: =K38*L38*M38 -> 0

Sheet obj_serw
A1: energia | B1: Źródło energii | C1: wystę- powanie | D1: Zagrożenia wynikające z występowania energii | E1: wartość funkcji ryzyka | J1: Środki zapobiegawcze | K1: wartość funkcji ryzyka | P1: =RISC_SCORE!A3 -> wartość "S" | Q1: =RISC_SCORE!B3 -> Szacowane straty | R1: =RISC_SCORE!C3 -> Straty ludzkie
P2: =RISC_SCORE!A4 -> 100 | Q2: =RISC_SCORE!B4 -> Poważna katastrofa | R2: =RISC_SCORE!C4 -> Wiele ofiar śmiertelnych
E3: S | F3: E | G3: P | H3: R | K3: S | L3: E | M3: P | N3: R | P3: =RISC_SCORE!A5 -> 50 | Q3: =RISC_SCORE!B5 -> Katastrofa | R3: =RISC_SCORE!C5 -> Kilka ofiar śmiertelnych
A4: potencjalna | B4: osoba na wysokości | C4: =TRUE -> TRUE | H4: =E4*F4*G4 -> 0 | I4: =IF(H4>70,"!!!"," ") | N4: =K4*L4*M4 -> 0 | P4: =RISC_SCORE!A6 -> 15 | Q4: =RISC_SCORE!B6 -> Bardzo duża | R4: =RISC_SCORE!C6 -> Jedna ofiara śmiertelna | V4: =TRUE -> TRUE
B5: obiekt na wysokości | C5: =TRUE -> TRUE | H5: =E5*F5*G5 -> 0 | I5: =IF(H5>70,"!!!"," ") | N5: =K5*L5*M5 -> 0 | P5: =RISC_SCORE!A7 -> 7 | Q5: =RISC_SCORE!B7 -> Duża | R5: =RISC_SCORE!C7 -> Ciężkie uszkodzenie | V5: =FALSE -> FALSE
B6: załamująca się konstrukcja | C6: =TRUE -> TRUE | H6: =E6*F6*G6 -> 0 | I6: =IF(H6>70,"!!!"," ") | N6: =K6*L6*M6 -> 0 | P6: =RISC_SCORE!A8 -> 3 | Q6: =RISC_SCORE!B8 -> Średnia | R6: =RISC_SCORE!C8 -> Absencja
B7: przenoszenie i podnoszenie | C7: =TRUE -> TRUE | H7: =E7*F7*G7 -> 0 | I7: =IF(H7>70,"!!!"," ") | N7: =K7*L7*M7 -> 0 | P7: =RISC_SCORE!A9 -> 1 | Q7: =RISC_SCORE!B9 -> Mała | R7: =RISC_SCORE!C9 -> Udzielenie pierwszej pomocy
B8: natężona sprężyna | C8: =TRUE -> TRUE | H8: =E8*F8*G8 -> 0 | I8: =IF(H8>70,"!!!"," ") | N8: =K8*L8*M8 -> 0 | P8: =RISC_SCORE!A11 -> wartość "E" | Q8: =RISC_SCORE!B11 -> Opis ekspozycji
B9: naprężony materiał | C9: =TRUE -> TRUE | H9: =E9*F9*G9 -> 0 | I9: =IF(H9>70,"!!!"," ") | N9: =K9*L9*M9 -> 0 | P9: =RISC_SCORE!A12 -> 10 | Q9: =RISC_SCORE!B12 -> Stała | S9: Pracownik obsługujący stanowisko pracy
B10: przewody pod ciśnieniem z gazem, parą | C10: =TRUE -> TRUE | H10: =E10*F10*G10 -> 0 | I10: =IF(H10>70,"!!!"," ") | N10: =K10*L10*M10 -> 0 | P10: =RISC_SCORE!A13 -> 6 | Q10: =RISC_SCORE!B13 -> Częsta (codzienna) | S10: Inni pracownicy w otoczeniu stanowiska
B11: próżnia | C11: =TRUE -> TRUE | H11: =E11*F11*G11 -> 0 | I11: =IF(H11>70,"!!!"," ") | N11: =K11*L11*M11 -> 0 | P11: =RISC_SCORE!A14 -> 3 | Q11: =RISC_SCORE!B14 -> Sporadyczna (raz na tydzień) | S11: Pracownicy serwisu
A12: kinetyczna | B12: wysuwające się elementy maszyn na prowadnicach liniowych | C12: =TRUE -> TRUE | H12: =E12*F12*G12 -> 0 | I12: =IF(H12>70,"!!!"," ") | N12: =K12*L12*M12 -> 0 | P12: =RISC_SCORE!A15 -> 2 | Q12: =RISC_SCORE!B15 -> Okazyjna (raz w miesiącu) | S12: Pracownicy serwisu
B13: przemieszczające się ramiona robotów, manipulatorów | C13: =TRUE -> TRUE | H13: =E13*F13*G13 -> 0 | I13: =IF(H13>70,"!!!"," ") | N13: =K13*L13*M13 -> 0 | P13: =RISC_SCORE!A16 -> 1 | Q13: =RISC_SCORE!B16 -> Minimalna (kilka razy w roku) | S13: Pracownicy serwisu
B14: bezwładność wiórów lub odpryski przedmiotów obróbki | C14: =TRUE -> TRUE | H14: =E14*F14*G14 -> 0 | I14: =IF(H14>70,"!!!"," ") | N14: =K14*L14*M14 -> 0 | P14: =RISC_SCORE!A17 -> 0.5 | Q14: =RISC_SCORE!B17 -> Znikoma (raz w roku) | S14: Pracownicy serwisu
B15: ruch transporterów | C15: =TRUE -> TRUE | H15: =E15*F15*G15 -> 0 | I15: =IF(H15>70,"!!!"," ") | N15: =K15*L15*M15 -> 0 | P15: =RISC_SCORE!A19 -> wartość "P" | Q15: =RISC_SCORE!B19 -> Opis prawdopodobieństwa
B16: ruch wózków podłogowych robocarów | C16: =TRUE -> TRUE | H16: =E16*F16*G16 -> 0 | I16: =IF(H16>70,"!!!"," ") | N16: =K16*L16*M16 -> 0 | P16: =RISC_SCORE!A20 -> 10 | Q16: =RISC_SCORE!B20 -> Bardzo prawdopodobne
B17: wytryskujące pod ciśnieniem ciecze, gazy | C17: =TRUE -> TRUE | H17: =E17*F17*G17 -> 0 | I17: =IF(H17>70,"!!!"," ") | N17: =K17*L17*M17 -> 0 | P17: =RISC_SCORE!A21 -> 6 | Q17: =RISC_SCORE!B21 -> Całkiem prawdopodobne
B18: transportowane materiały | C18: =TRUE -> TRUE | H18: =E18*F18*G18 -> 0 | I18: =IF(H18>70,"!!!"," ") | N18: =K18*L18*M18 -> 0 | P18: =RISC_SCORE!A22 -> 3 | Q18: =RISC_SCORE!B22 -> Mało prawdopodobne
B19: wirujące części maszyn | C19: =TRUE -> TRUE | H19: =E19*F19*G19 -> 0 | I19: =IF(H19>70,"!!!"," ") | N19: =K19*L19*M19 -> 0 | P19: =RISC_SCORE!A23 -> 1 | Q19: =RISC_SCORE!B23 -> Tylko sporadycznie
B20: ruch pasów transmisyjnych | C20: =TRUE -> TRUE | H20: =E20*F20*G20 -> 0 | I20: =IF(H20>70,"!!!"," ") | N20: =K20*L20*M20 -> 0 | P20: =RISC_SCORE!A24 -> 0.5 | Q20: =RISC_SCORE!B24 -> Możliwe do pomyślenia
B21: ruch wałów, śrub tocznych | C21: =TRUE -> TRUE | H21: =E21*F21*G21 -> 0 | I21: =IF(H21>70,"!!!"," ") | N21: =K21*L21*M21 -> 0 | P21: =RISC_SCORE!A25 -> 0.2 | Q21: =RISC_SCORE!B25 -> Praktycznie możliwe
A22: elektyryczna | B22: napięcie zasilania | C22: =TRUE -> TRUE | H22: =E22*F22*G22 -> 0 | I22: =IF(H22>70,"!!!"," ") | N22: =K22*L22*M22 -> 0 | P22: =RISC_SCORE!A26 -> 0.1 | Q22: =RISC_SCORE!B26 -> Teoterycznie możliwe
B23: napięcie kondensatora | C23: =TRUE -> TRUE | H23: =E23*F23*G23 -> 0 | I23: =IF(H23>70,"!!!"," ") | N23: =K23*L23*M23 -> 0 | P23: Wartość "R" | Q23: Kategorie ryzyka | R23: Działania zapobiegawcze
B24: napięcie akumulatora | C24: =TRUE -> TRUE | H24: =E24*F24*G24 -> 0 | I24: =IF(H24>70,"!!!"," ") | N24: =K24*L24*M24 -> 0 | P24: R <= 20 | Q24: Akceptowalne | R24: Wskazana kontrola
B25: prąd (magazynowanie indukcyjne lub grzanie) | C25: =TRUE -> TRUE | H25: =E25*F25*G25 -> 0 | I25: =IF(H25>70,"!!!"," ") | N25: =K25*L25*M25 -> 0 | P25: 20 < R < 70 | Q25: Małe | R25: Potrzebna kontrola
B26: energia pola magnetycznego | C26: =TRUE -> TRUE | H26: =E26*F26*G26 -> 0 | I26: =IF(H26>70,"!!!"," ") | N26: =K26*L26*M26 -> 0 | P26: 70 < R < 200 | Q26: Istotne | R26: Potrzebna poprawa
A27: ciepło - zimno | B27: gorący zimny przedmiot | C27: =TRUE -> TRUE | H27: =E27*F27*G27 -> 0 | I27: =IF(H27>70,"!!!"," ") | N27: =K27*L27*M27 -> 0 | P27: 200 < R <= 400 | Q27: Duże | R27: Potrzebna natychmiastowa poprawa
B28: źródła służące emitowaniu ciepła | C28: =TRUE -> TRUE | H28: =E28*F28*G28 -> 0 | I28: =IF(H28>70,"!!!"," ") | N28: =K28*L28*M28 -> 0 | P28: R > 400 | Q28: Bardzo duże | R28: Wskazane wstrzymanie pracy
B29: ciekła, stopiona substancja | C29: =TRUE -> TRUE | H29: =E29*F29*G29 -> 0 | I29: =IF(H29>70,"!!!"," ") | N29: =K29*L29*M29 -> 0
B30: e. wewnętrzna wydzielana z reakcji chemicznej | C30: =TRUE -> TRUE | H30: =E30*F30*G30 -> 0 | I30: =IF(H30>70,"!!!"," ") | N30: =K30*L30*M30 -> 0
A31: oddziaływania chemiczne | B31: materiały wybuchowe reakcje chemiczne | C31: =TRUE -> TRUE | H31: =E31*F31*G31 -> 0 | I31: =IF(H31>70,"!!!"," ") | N31: =K31*L31*M31 -> 0
B32: trucizny | C32: =TRUE -> TRUE | H32: =E32*F32*G32 -> 0 | I32: =IF(H32>70,"!!!"," ") | N32: =K32*L32*M32 -> 0
B33: substancje korodujące | C33: =TRUE -> TRUE | H33: =E33*F33*G33 -> 0 | I33: =IF(H33>70,"!!!"," ") | N33: =K33*L33*M33 -> 0
B34: substancje duszące | C34: =TRUE -> TRUE | H34: =E34*F34*G34 -> 0 | I34: =IF(H34>70,"!!!"," ") | N34: =K34*L34*M34 -> 0
A35: promienio-wanie | B35: akustyczne | C35: =TRUE -> TRUE | H35: =E35*F35*G35 -> 0 | I35: =IF(H35>70,"!!!"," ") | N35: =K35*L35*M35 -> 0
B36: elektromagnetyczne | C36: =TRUE -> TRUE | H36: =E36*F36*G36 -> 0 | I36: =IF(H36>70,"!!!"," ") | N36: =K36*L36*M36 -> 0
B37: Infra i ultradźwiękowe | C37: =TRUE -> TRUE | H37: =E37*F37*G37 -> 0 | I37: =IF(H37>70,"!!!"," ") | N37: =K37*L37*M37 -> 0
B38: jonizujące | C38: =TRUE -> TRUE | H38: =E38*F38*G38 -> 0 | I38: =IF(H38>70,"!!!"," ") | N38: =K38*L38*M38 -> 0

Sheet RISC_SCORE
A1: RICK SCORE
A3: wartość "S" | B3: Szacowane straty | C3: Straty ludzkie
A4: 100 | B4: Poważna katastrofa | C4: Wiele ofiar śmiertelnych
A5: 50 | B5: Katastrofa | C5: Kilka ofiar śmiertelnych
A6: 15 | B6: Bardzo duża | C6: Jedna ofiara śmiertelna
A7: 7 | B7: Duża | C7: Ciężkie uszkodzenie
A8: 3 | B8: Średnia | C8: Absencja
A9: 1 | B9: Mała | C9: Udzielenie pierwszej pomocy
A11: wartość "E" | B11: Opis ekspozycji
A12: 10 | B12: Stała
A13: 6 | B13: Częsta (codzienna)
A14: 3 | B14: Sporadyczna (raz na tydzień)
A15: 2 | B15: Okazyjna (raz w miesiącu)
A16: 1 | B16: Minimalna (kilka razy w roku)
A17: 0.5 | B17: Znikoma (raz w roku)
A19: wartość "P" | B19: Opis prawdopodobieństwa
A20: 10 | B20: Bardzo prawdopodobne
A21: 6 | B21: Całkiem prawdopodobne
A22: 3 | B22: Mało prawdopodobne
A23: 1 | B23: Tylko sporadycznie
A24: 0.5 | B24: Możliwe do pomyślenia
A25: 0.2 | B25: Praktycznie możliwe
A26: 0.1 | B26: Teoterycznie możliwe
A28: Wartość "R" | B28: Kategorie ryzyka | C28: Działania zapobiegawcze
A29: R <= 20 | B29: Akceptowalne | C29: Wskazana kontrola
A30: 20 < R < 70 | B30: Małe | C30: Potrzebna kontrola
A31: 70 < R < 200 | B31: Istotne | C31: Potrzebna poprawa
A32: 200 < R <= 400 | B32: Duże | C32: Potrzebna natychmiastowa poprawa
A33: R > 400 | B33: Bardzo duże | C33: Wskazane wstrzymanie pracy

Sheet zabezpieczenia
B4: Przewidywane do zastosowania środki ochrony indywidualnej pracownika | C4: Przewidywane do opracowania procedury bezpiecznej pracy
A5: 1
A6: 2
A7: 3
A8: 4
A9: 5
A10: 6
A11: 7
A12: 8
A13: 9
A14: 10
A15: 11
A16: 12
A17: 13

Sheet Spec_Funkcji_bezp
A1: Numer funkcji | B1: Definicja funkcji bezpieczeństwa | C1: Komentarz | D1: Stopień uszkodzenia ciała S1/S2 | E1: Częstotliwość i/lub czas przebywania w warunkach zagrożenia F1/F2 | F1: Możliwość uniknięcia zagrożenia lub ograniczenia szkód P1/P2 | G1: Wymagany poziom zapewnienia bezpieczeństwa PLr
A2: SF1 | D2: S2 | E2: F2 | F2: P2 | G2: Ple | J2: hamulec pneumatyczny na manipulatorze
A3: SF2 | J3: dopisać resety
A4: SF3
A5: SF4 | J5: odboje manipulatora
A6: SF5 | J6: pozycja wyjściowa manipulatora i dwa czujniki lub zawory wybijające
A7: SF6 | J7: automatyczne odryglowanie po e-stopie
A8: SF7 | J8: zamienić dwuręczne na jednoręczne
A9: SF8 | J9: przełącznik serwisowy do wejścia w tryb jog mode
A10: SF9
A11: SF10
A12: SF11
A13: SF12
A14: SF13
A15: SF14
A16: SF15
A17: SF16
A18: SF17
A19: SF18
A20: SF19
A21: SF20
... A35: SF34

Sheet graf
A1: graf

Sheet Arkusz2
C3: > odpowiednie kwalifikacje personelu, > stosowanie procedury LOTO, > maty dielektryczne przy pracach na otwartych szafach elektrycznych pod napięciem > narzędzia dielektryczne > prace pod napięciem oraz z ominięciem procedury LOTO w dwie osoby w celu zapewnienia asekuracji | D3: > stosowanie zabezpieczenia LOTO na rygle, > klamki ucieczkowe na ryglach > tryb serwisowy robotów, > tryb serwisowy (jog mode) dla wymuszenia poszczególnych ruchów stanowiska, jog mode wyposażony w przycisk trójpozycyjny (deadman), > przycisk zatrzymania awaryjnego wewnątrz strefy niebezpiecznej
